BEGIN:VCALENDAR
VERSION:2.0
PRODID:-//Park Street School - ECPv6.15.18//NONSGML v1.0//EN
CALSCALE:GREGORIAN
METHOD:PUBLISH
X-ORIGINAL-URL:https://www.parkstreetschool.org
X-WR-CALDESC:Events for Park Street School
REFRESH-INTERVAL;VALUE=DURATION:PT1H
X-Robots-Tag:noindex
X-PUBLISHED-TTL:PT1H
BEGIN:VTIMEZONE
TZID:America/New_York
BEGIN:DAYLIGHT
TZOFFSETFROM:-0500
TZOFFSETTO:-0400
TZNAME:EDT
DTSTART:20220313T070000
END:DAYLIGHT
BEGIN:STANDARD
TZOFFSETFROM:-0400
TZOFFSETTO:-0500
TZNAME:EST
DTSTART:20221106T060000
END:STANDARD
BEGIN:DAYLIGHT
TZOFFSETFROM:-0500
TZOFFSETTO:-0400
TZNAME:EDT
DTSTART:20230312T070000
END:DAYLIGHT
BEGIN:STANDARD
TZOFFSETFROM:-0400
TZOFFSETTO:-0500
TZNAME:EST
DTSTART:20231105T060000
END:STANDARD
BEGIN:DAYLIGHT
TZOFFSETFROM:-0500
TZOFFSETTO:-0400
TZNAME:EDT
DTSTART:20240310T070000
END:DAYLIGHT
BEGIN:STANDARD
TZOFFSETFROM:-0400
TZOFFSETTO:-0500
TZNAME:EST
DTSTART:20241103T060000
END:STANDARD
BEGIN:DAYLIGHT
TZOFFSETFROM:-0500
TZOFFSETTO:-0400
TZNAME:EDT
DTSTART:20250309T070000
END:DAYLIGHT
BEGIN:STANDARD
TZOFFSETFROM:-0400
TZOFFSETTO:-0500
TZNAME:EST
DTSTART:20251102T060000
END:STANDARD
BEGIN:DAYLIGHT
TZOFFSETFROM:-0500
TZOFFSETTO:-0400
TZNAME:EDT
DTSTART:20260308T070000
END:DAYLIGHT
BEGIN:STANDARD
TZOFFSETFROM:-0400
TZOFFSETTO:-0500
TZNAME:EST
DTSTART:20261101T060000
END:STANDARD
END:VTIMEZONE
BEGIN:VEVENT
DTSTART;VALUE=DATE:20251110
DTEND;VALUE=DATE:20251111
DTSTAMP:20260423T003937
CREATED:20250731T201840Z
LAST-MODIFIED:20260422T201848Z
UID:347273-1762732800-1762732800@www.parkstreetschool.org
SUMMARY:All School Staff Professional Development Day
DESCRIPTION:
URL:https://www.parkstreetschool.org/event/all-school-staff-professional-development-day/
LOCATION:All School – School is Closed\, 67 Brimmer St.\, Boston\, MA\, 02108\, United States
CATEGORIES:No School
END:VEVENT
BEGIN:VEVENT
DTSTART;VALUE=DATE:20241112
DTEND;VALUE=DATE:20241113
DTSTAMP:20260423T003937
CREATED:20240718T201919Z
LAST-MODIFIED:20250804T201813Z
UID:270944-1731369600-1731369600@www.parkstreetschool.org
SUMMARY:All School Staff Collaboration/Professional Development Day
DESCRIPTION:
URL:https://www.parkstreetschool.org/event/all-school-staff-collaboration-professional-development-day/
LOCATION:All School – School is Closed\, 67 Brimmer St.\, Boston\, MA\, 02108\, United States
CATEGORIES:No School
END:VEVENT
BEGIN:VEVENT
DTSTART;VALUE=DATE:20231113
DTEND;VALUE=DATE:20231114
DTSTAMP:20260423T003937
CREATED:20230720T201920Z
LAST-MODIFIED:20240806T201817Z
UID:199673-1699833600-1699833600@www.parkstreetschool.org
SUMMARY:All School Staff Collaboration/Professional Development Day
DESCRIPTION:
URL:https://www.parkstreetschool.org/event/all-school-staff-collaboration-professional-development-day-2/
LOCATION:All School – School is Closed\, 67 Brimmer St.\, Boston\, MA\, 02108\, United States
CATEGORIES:No School
END:VEVENT
END:VCALENDAR