BEGIN:VCALENDAR
VERSION:2.0
PRODID:-//Park Street School - ECPv6.15.18//NONSGML v1.0//EN
CALSCALE:GREGORIAN
METHOD:PUBLISH
X-WR-CALNAME:Park Street School
X-ORIGINAL-URL:https://www.parkstreetschool.org
X-WR-CALDESC:Events for Park Street School
REFRESH-INTERVAL;VALUE=DURATION:PT1H
X-Robots-Tag:noindex
X-PUBLISHED-TTL:PT1H
BEGIN:VTIMEZONE
TZID:America/New_York
BEGIN:DAYLIGHT
TZOFFSETFROM:-0500
TZOFFSETTO:-0400
TZNAME:EDT
DTSTART:20220313T070000
END:DAYLIGHT
BEGIN:STANDARD
TZOFFSETFROM:-0400
TZOFFSETTO:-0500
TZNAME:EST
DTSTART:20221106T060000
END:STANDARD
BEGIN:DAYLIGHT
TZOFFSETFROM:-0500
TZOFFSETTO:-0400
TZNAME:EDT
DTSTART:20230312T070000
END:DAYLIGHT
BEGIN:STANDARD
TZOFFSETFROM:-0400
TZOFFSETTO:-0500
TZNAME:EST
DTSTART:20231105T060000
END:STANDARD
BEGIN:DAYLIGHT
TZOFFSETFROM:-0500
TZOFFSETTO:-0400
TZNAME:EDT
DTSTART:20240310T070000
END:DAYLIGHT
BEGIN:STANDARD
TZOFFSETFROM:-0400
TZOFFSETTO:-0500
TZNAME:EST
DTSTART:20241103T060000
END:STANDARD
BEGIN:DAYLIGHT
TZOFFSETFROM:-0500
TZOFFSETTO:-0400
TZNAME:EDT
DTSTART:20250309T070000
END:DAYLIGHT
BEGIN:STANDARD
TZOFFSETFROM:-0400
TZOFFSETTO:-0500
TZNAME:EST
DTSTART:20251102T060000
END:STANDARD
BEGIN:DAYLIGHT
TZOFFSETFROM:-0500
TZOFFSETTO:-0400
TZNAME:EDT
DTSTART:20260308T070000
END:DAYLIGHT
BEGIN:STANDARD
TZOFFSETFROM:-0400
TZOFFSETTO:-0500
TZNAME:EST
DTSTART:20261101T060000
END:STANDARD
BEGIN:DAYLIGHT
TZOFFSETFROM:-0500
TZOFFSETTO:-0400
TZNAME:EDT
DTSTART:20270314T070000
END:DAYLIGHT
BEGIN:STANDARD
TZOFFSETFROM:-0400
TZOFFSETTO:-0500
TZNAME:EST
DTSTART:20271107T060000
END:STANDARD
END:VTIMEZONE
BEGIN:VEVENT
DTSTART;TZID=America/New_York:20260227T000000
DTEND;TZID=America/New_York:20260227T120000
DTSTAMP:20260424T133742
CREATED:20250806T201843Z
LAST-MODIFIED:20260423T201847Z
UID:348665-1772150400-1772193600@www.parkstreetschool.org
SUMMARY:All School Staff Collaboration 1/2 Day
DESCRIPTION:
URL:https://www.parkstreetschool.org/event/all-school-staff-collaboration-1-2-day-8/
LOCATION:All School – School Closes at Noon\, 67 Brimmer St.\, Boston\, MA\, 02108\, United States
CATEGORIES:Early Dismissal
END:VEVENT
BEGIN:VEVENT
DTSTART;VALUE=DATE:20250523
DTEND;VALUE=DATE:20250524
DTSTAMP:20260424T133742
CREATED:20240719T201854Z
LAST-MODIFIED:20250804T201822Z
UID:271299-1747958400-1747958400@www.parkstreetschool.org
SUMMARY:All School Staff Collaboration 1/2 Day
DESCRIPTION:
URL:https://www.parkstreetschool.org/event/all-school-staff-collaboration-1-2-day-7/
LOCATION:All School – School Closes at Noon\, 67 Brimmer St.\, Boston\, MA\, 02108\, United States
CATEGORIES:Early Dismissal
END:VEVENT
BEGIN:VEVENT
DTSTART;TZID=America/New_York:20250228T000000
DTEND;TZID=America/New_York:20250228T120000
DTSTAMP:20260424T133742
CREATED:20240719T201846Z
LAST-MODIFIED:20250804T201817Z
UID:271250-1740700800-1740744000@www.parkstreetschool.org
SUMMARY:All School Staff Collaboration 1/2 Day
DESCRIPTION:
URL:https://www.parkstreetschool.org/event/all-school-staff-collaboration-1-2-day-4/
LOCATION:All School – School Closes at Noon\, 67 Brimmer St.\, Boston\, MA\, 02108\, United States
CATEGORIES:Early Dismissal
END:VEVENT
BEGIN:VEVENT
DTSTART;VALUE=DATE:20240925
DTEND;VALUE=DATE:20240926
DTSTAMP:20260424T133742
CREATED:20240718T201917Z
LAST-MODIFIED:20250804T201811Z
UID:270928-1727222400-1727222400@www.parkstreetschool.org
SUMMARY:All School Staff Collaboration 1/2 Day
DESCRIPTION:
URL:https://www.parkstreetschool.org/event/all-school-staff-collaboration-1-2-day-3/
LOCATION:All School – School Closes at Noon\, 67 Brimmer St.\, Boston\, MA\, 02108\, United States
CATEGORIES:Early Dismissal
END:VEVENT
BEGIN:VEVENT
DTSTART;VALUE=DATE:20240524
DTEND;VALUE=DATE:20240525
DTSTAMP:20260424T133742
CREATED:20230823T201913Z
LAST-MODIFIED:20240806T201828Z
UID:206285-1716508800-1716508800@www.parkstreetschool.org
SUMMARY:All School Staff Collaboration 1/2 Day
DESCRIPTION:
URL:https://www.parkstreetschool.org/event/all-school-staff-collaboration-1-2-day-2/
LOCATION:All School – School Closes at Noon\, 67 Brimmer St.\, Boston\, MA\, 02108\, United States
CATEGORIES:Early Dismissal
END:VEVENT
BEGIN:VEVENT
DTSTART;TZID=America/New_York:20240301T000000
DTEND;TZID=America/New_York:20240301T120000
DTSTAMP:20260424T133742
CREATED:20230823T201907Z
LAST-MODIFIED:20240806T201826Z
UID:206259-1709251200-1709294400@www.parkstreetschool.org
SUMMARY:All School Staff Collaboration 1/2 Day
DESCRIPTION:
URL:https://www.parkstreetschool.org/event/all-school-staff-collaboration-1-2-day/
LOCATION:All School – School Closes at Noon\, 67 Brimmer St.\, Boston\, MA\, 02108\, United States
CATEGORIES:Early Dismissal
END:VEVENT
BEGIN:VEVENT
DTSTART;VALUE=DATE:20240216
DTEND;VALUE=DATE:20240217
DTSTAMP:20260424T133742
CREATED:20230804T201827Z
LAST-MODIFIED:20240806T201823Z
UID:203584-1708041600-1708041600@www.parkstreetschool.org
SUMMARY:All School Staff Collaboration 1/2 Day
DESCRIPTION:
URL:https://www.parkstreetschool.org/event/all-school-staff-collaboration-1-2-day-6/
LOCATION:All School – School Closes at Noon\, 67 Brimmer St.\, Boston\, MA\, 02108\, United States
CATEGORIES:Early Dismissal
END:VEVENT
BEGIN:VEVENT
DTSTART;VALUE=DATE:20230927
DTEND;VALUE=DATE:20230928
DTSTAMP:20260424T133742
CREATED:20230720T201915Z
LAST-MODIFIED:20240806T201815Z
UID:199656-1695772800-1695772800@www.parkstreetschool.org
SUMMARY:All School Staff Collaboration 1/2 Day
DESCRIPTION:
URL:https://www.parkstreetschool.org/event/all-school-staff-collaboration-1-2-day-5/
LOCATION:All School – School Closes at Noon\, 67 Brimmer St.\, Boston\, MA\, 02108\, United States
CATEGORIES:Early Dismissal
END:VEVENT
END:VCALENDAR