BEGIN:VCALENDAR
VERSION:2.0
PRODID:-//Park Street School - ECPv6.15.18//NONSGML v1.0//EN
CALSCALE:GREGORIAN
METHOD:PUBLISH
X-WR-CALNAME:Park Street School
X-ORIGINAL-URL:https://www.parkstreetschool.org
X-WR-CALDESC:Events for Park Street School
REFRESH-INTERVAL;VALUE=DURATION:PT1H
X-Robots-Tag:noindex
X-PUBLISHED-TTL:PT1H
BEGIN:VTIMEZONE
TZID:America/New_York
BEGIN:DAYLIGHT
TZOFFSETFROM:-0500
TZOFFSETTO:-0400
TZNAME:EDT
DTSTART:20230312T070000
END:DAYLIGHT
BEGIN:STANDARD
TZOFFSETFROM:-0400
TZOFFSETTO:-0500
TZNAME:EST
DTSTART:20231105T060000
END:STANDARD
BEGIN:DAYLIGHT
TZOFFSETFROM:-0500
TZOFFSETTO:-0400
TZNAME:EDT
DTSTART:20240310T070000
END:DAYLIGHT
BEGIN:STANDARD
TZOFFSETFROM:-0400
TZOFFSETTO:-0500
TZNAME:EST
DTSTART:20241103T060000
END:STANDARD
BEGIN:DAYLIGHT
TZOFFSETFROM:-0500
TZOFFSETTO:-0400
TZNAME:EDT
DTSTART:20250309T070000
END:DAYLIGHT
BEGIN:STANDARD
TZOFFSETFROM:-0400
TZOFFSETTO:-0500
TZNAME:EST
DTSTART:20251102T060000
END:STANDARD
BEGIN:DAYLIGHT
TZOFFSETFROM:-0500
TZOFFSETTO:-0400
TZNAME:EDT
DTSTART:20260308T070000
END:DAYLIGHT
BEGIN:STANDARD
TZOFFSETFROM:-0400
TZOFFSETTO:-0500
TZNAME:EST
DTSTART:20261101T060000
END:STANDARD
END:VTIMEZONE
BEGIN:VEVENT
DTSTART;VALUE=DATE:20250611
DTEND;VALUE=DATE:20250612
DTSTAMP:20260424T153542
CREATED:20240719T201856Z
LAST-MODIFIED:20250804T201823Z
UID:271308-1749600000-1749600000@www.parkstreetschool.org
SUMMARY:Elementary Last Day of School
DESCRIPTION:
URL:https://www.parkstreetschool.org/event/elementary-last-day-of-school-2/
LOCATION:All School – School closes at noon.\, 67 Brimmer St.\, Boston\, MA\, 02108\, United States
CATEGORIES:Last Day of School
END:VEVENT
BEGIN:VEVENT
DTSTART;VALUE=DATE:20250611
DTEND;VALUE=DATE:20250612
DTSTAMP:20260424T153542
CREATED:20240719T201856Z
LAST-MODIFIED:20250804T201823Z
UID:271309-1749600000-1749600000@www.parkstreetschool.org
SUMMARY:Preschool (All W/F; M-TH; M-F and All Pre-K) Last Day of School
DESCRIPTION:
URL:https://www.parkstreetschool.org/event/preschool-all-w-f-m-th-m-f-and-all-pre-k-last-day-of-school-2/
LOCATION:All School – School closes at noon.\, 67 Brimmer St.\, Boston\, MA\, 02108\, United States
CATEGORIES:Last Day of School
END:VEVENT
BEGIN:VEVENT
DTSTART;VALUE=DATE:20240612
DTEND;VALUE=DATE:20240613
DTSTAMP:20260424T153542
CREATED:20230824T201932Z
LAST-MODIFIED:20240806T201829Z
UID:206464-1718150400-1718150400@www.parkstreetschool.org
SUMMARY:Elementary Last Day of School
DESCRIPTION:
URL:https://www.parkstreetschool.org/event/elementary-last-day-of-school/
LOCATION:All School – School closes at noon.\, 67 Brimmer St.\, Boston\, MA\, 02108\, United States
CATEGORIES:Last Day of School
END:VEVENT
BEGIN:VEVENT
DTSTART;VALUE=DATE:20240612
DTEND;VALUE=DATE:20240613
DTSTAMP:20260424T153542
CREATED:20230824T201932Z
LAST-MODIFIED:20240806T201829Z
UID:206465-1718150400-1718150400@www.parkstreetschool.org
SUMMARY:Preschool (All W/F; M-TH; M-F and All Pre-K) Last Day of School
DESCRIPTION:
URL:https://www.parkstreetschool.org/event/preschool-all-w-f-m-th-m-f-and-all-pre-k-last-day-of-school/
LOCATION:All School – School closes at noon.\, 67 Brimmer St.\, Boston\, MA\, 02108\, United States
CATEGORIES:Last Day of School
END:VEVENT
END:VCALENDAR