BEGIN:VCALENDAR
VERSION:2.0
PRODID:-//Park Street School - ECPv6.15.18//NONSGML v1.0//EN
CALSCALE:GREGORIAN
METHOD:PUBLISH
X-ORIGINAL-URL:https://www.parkstreetschool.org
X-WR-CALDESC:Events for Park Street School
REFRESH-INTERVAL;VALUE=DURATION:PT1H
X-Robots-Tag:noindex
X-PUBLISHED-TTL:PT1H
BEGIN:VTIMEZONE
TZID:America/New_York
BEGIN:DAYLIGHT
TZOFFSETFROM:-0500
TZOFFSETTO:-0400
TZNAME:EDT
DTSTART:20250309T070000
END:DAYLIGHT
BEGIN:STANDARD
TZOFFSETFROM:-0400
TZOFFSETTO:-0500
TZNAME:EST
DTSTART:20251102T060000
END:STANDARD
BEGIN:DAYLIGHT
TZOFFSETFROM:-0500
TZOFFSETTO:-0400
TZNAME:EDT
DTSTART:20260308T070000
END:DAYLIGHT
BEGIN:STANDARD
TZOFFSETFROM:-0400
TZOFFSETTO:-0500
TZNAME:EST
DTSTART:20261101T060000
END:STANDARD
BEGIN:DAYLIGHT
TZOFFSETFROM:-0500
TZOFFSETTO:-0400
TZNAME:EDT
DTSTART:20270314T070000
END:DAYLIGHT
BEGIN:STANDARD
TZOFFSETFROM:-0400
TZOFFSETTO:-0500
TZNAME:EST
DTSTART:20271107T060000
END:STANDARD
END:VTIMEZONE
BEGIN:VEVENT
DTSTART;VALUE=DATE:20260506
DTEND;VALUE=DATE:20260507
DTSTAMP:20260425T085410
CREATED:20250806T201846Z
LAST-MODIFIED:20260424T201853Z
UID:348681-1778025600-1778025600@www.parkstreetschool.org
SUMMARY:Grade 6 Washington D.C. Trip
DESCRIPTION:
URL:https://www.parkstreetschool.org/event/grade-6-washington-d-c-trip-7/
LOCATION:Washington\, D.C.\, 67 Brimmer St.\, Boston\, MA\, 02108\, United States
CATEGORIES:School Event
END:VEVENT
BEGIN:VEVENT
DTSTART;VALUE=DATE:20260507
DTEND;VALUE=DATE:20260508
DTSTAMP:20260425T085410
CREATED:20250806T201847Z
LAST-MODIFIED:20260424T201853Z
UID:348682-1778112000-1778112000@www.parkstreetschool.org
SUMMARY:Grade 6 Washington D.C. Trip
DESCRIPTION:
URL:https://www.parkstreetschool.org/event/grade-6-washington-d-c-trip-8/
LOCATION:Washington\, D.C.\, 67 Brimmer St.\, Boston\, MA\, 02108\, United States
CATEGORIES:School Event
END:VEVENT
BEGIN:VEVENT
DTSTART;VALUE=DATE:20260508
DTEND;VALUE=DATE:20260509
DTSTAMP:20260425T085410
CREATED:20250806T201847Z
LAST-MODIFIED:20260424T201853Z
UID:348683-1778198400-1778198400@www.parkstreetschool.org
SUMMARY:Grade 6 Washington D.C. Trip
DESCRIPTION:
URL:https://www.parkstreetschool.org/event/grade-6-washington-d-c-trip-9/
LOCATION:Washington\, D.C.\, 67 Brimmer St.\, Boston\, MA\, 02108\, United States
CATEGORIES:School Event
END:VEVENT
BEGIN:VEVENT
DTSTART;TZID=America/New_York:20260518T081500
DTEND;TZID=America/New_York:20260518T120000
DTSTAMP:20260425T085410
CREATED:20250806T201847Z
LAST-MODIFIED:20260424T201853Z
UID:348684-1779092100-1779105600@www.parkstreetschool.org
SUMMARY:Elementary School (Grades 3-6) CTP-5 Testing
DESCRIPTION:
URL:https://www.parkstreetschool.org/event/elementary-school-grades-3-6-ctp-5-testing/
LOCATION:MA
CATEGORIES:School Event
END:VEVENT
BEGIN:VEVENT
DTSTART;TZID=America/New_York:20260519T081500
DTEND;TZID=America/New_York:20260519T120000
DTSTAMP:20260425T085410
CREATED:20250806T201847Z
LAST-MODIFIED:20260424T201853Z
UID:348685-1779178500-1779192000@www.parkstreetschool.org
SUMMARY:Elementary School (Grades 3-6) CTP-5 Testing
DESCRIPTION:
URL:https://www.parkstreetschool.org/event/elementary-school-grades-3-6-ctp-5-testing-2/
LOCATION:MA
CATEGORIES:School Event
END:VEVENT
BEGIN:VEVENT
DTSTART;TZID=America/New_York:20260520T081500
DTEND;TZID=America/New_York:20260520T120000
DTSTAMP:20260425T085410
CREATED:20250806T201847Z
LAST-MODIFIED:20260424T201853Z
UID:348686-1779264900-1779278400@www.parkstreetschool.org
SUMMARY:Elementary School (Grades 3-6) CTP-5 Testing
DESCRIPTION:
URL:https://www.parkstreetschool.org/event/elementary-school-grades-3-6-ctp-5-testing-3/
LOCATION:MA
CATEGORIES:School Event
END:VEVENT
BEGIN:VEVENT
DTSTART;TZID=America/New_York:20260521T081500
DTEND;TZID=America/New_York:20260521T120000
DTSTAMP:20260425T085410
CREATED:20250806T201847Z
LAST-MODIFIED:20260424T201853Z
UID:348687-1779351300-1779364800@www.parkstreetschool.org
SUMMARY:Elementary School (Grades 3-6) CTP-5 Testing
DESCRIPTION:
URL:https://www.parkstreetschool.org/event/elementary-school-grades-3-6-ctp-5-testing-4/
LOCATION:MA
CATEGORIES:School Event
END:VEVENT
BEGIN:VEVENT
DTSTART;TZID=America/New_York:20260522T081500
DTEND;TZID=America/New_York:20260522T120000
DTSTAMP:20260425T085410
CREATED:20250806T201847Z
LAST-MODIFIED:20260424T201854Z
UID:348688-1779437700-1779451200@www.parkstreetschool.org
SUMMARY:Elementary School (Grades 3-6) CTP-5 Testing
DESCRIPTION:
URL:https://www.parkstreetschool.org/event/elementary-school-grades-3-6-ctp-5-testing-5/
LOCATION:MA
CATEGORIES:School Event
END:VEVENT
BEGIN:VEVENT
DTSTART;TZID=America/New_York:20260527T080000
DTEND;TZID=America/New_York:20260527T090000
DTSTAMP:20260425T085410
CREATED:20250806T201845Z
LAST-MODIFIED:20260424T201852Z
UID:348679-1779868800-1779872400@www.parkstreetschool.org
SUMMARY:Preschool Day of the Arts
DESCRIPTION:
URL:https://www.parkstreetschool.org/event/preschool-day-of-the-arts-6/
LOCATION:One Park Street\, 67 Brimmer St.\, Boston\, MA\, 02108\, United States
CATEGORIES:School Event
END:VEVENT
BEGIN:VEVENT
DTSTART;TZID=America/New_York:20260527T173000
DTEND;TZID=America/New_York:20260527T194500
DTSTAMP:20260425T085410
CREATED:20250806T201846Z
LAST-MODIFIED:20260424T201853Z
UID:348680-1779903000-1779911100@www.parkstreetschool.org
SUMMARY:Elementary School's Evening of the Arts
DESCRIPTION:
URL:https://www.parkstreetschool.org/event/elementary-schools-evening-of-the-arts-3/
LOCATION:67 Brimmer Street\, 67 Brimmer St.\, Boston\, MA\, 02108\, United States
CATEGORIES:School Event
END:VEVENT
END:VCALENDAR