BEGIN:VCALENDAR
VERSION:2.0
PRODID:-//Park Street School - ECPv6.15.18//NONSGML v1.0//EN
CALSCALE:GREGORIAN
METHOD:PUBLISH
X-ORIGINAL-URL:https://www.parkstreetschool.org
X-WR-CALDESC:Events for Park Street School
REFRESH-INTERVAL;VALUE=DURATION:PT1H
X-Robots-Tag:noindex
X-PUBLISHED-TTL:PT1H
BEGIN:VTIMEZONE
TZID:America/New_York
BEGIN:DAYLIGHT
TZOFFSETFROM:-0500
TZOFFSETTO:-0400
TZNAME:EDT
DTSTART:20250309T070000
END:DAYLIGHT
BEGIN:STANDARD
TZOFFSETFROM:-0400
TZOFFSETTO:-0500
TZNAME:EST
DTSTART:20251102T060000
END:STANDARD
BEGIN:DAYLIGHT
TZOFFSETFROM:-0500
TZOFFSETTO:-0400
TZNAME:EDT
DTSTART:20260308T070000
END:DAYLIGHT
BEGIN:STANDARD
TZOFFSETFROM:-0400
TZOFFSETTO:-0500
TZNAME:EST
DTSTART:20261101T060000
END:STANDARD
BEGIN:DAYLIGHT
TZOFFSETFROM:-0500
TZOFFSETTO:-0400
TZNAME:EDT
DTSTART:20270314T070000
END:DAYLIGHT
BEGIN:STANDARD
TZOFFSETFROM:-0400
TZOFFSETTO:-0500
TZNAME:EST
DTSTART:20271107T060000
END:STANDARD
END:VTIMEZONE
BEGIN:VEVENT
DTSTART;VALUE=DATE:20260204
DTEND;VALUE=DATE:20260205
DTSTAMP:20260424T224644
CREATED:20250806T201842Z
LAST-MODIFIED:20260424T201850Z
UID:348661-1770163200-1770163200@www.parkstreetschool.org
SUMMARY:World Read-Aloud Day
DESCRIPTION:
URL:https://www.parkstreetschool.org/event/world-read-aloud-day-3/
LOCATION:MA
CATEGORIES:All-School Event
END:VEVENT
BEGIN:VEVENT
DTSTART;TZID=America/New_York:20260211T081500
DTEND;TZID=America/New_York:20260211T000000
DTSTAMP:20260424T224644
CREATED:20250807T201855Z
LAST-MODIFIED:20260424T201856Z
UID:348838-1770797700-1770768000@www.parkstreetschool.org
SUMMARY:Parent Association Meeting at Park Street Church (PSC)
DESCRIPTION:
URL:https://www.parkstreetschool.org/event/parent-association-meeting-at-park-street-church-psc-2/
LOCATION:at Park Street Church (PSC)\, 67 Brimmer St.\, Boston\, MA\, 02108\, United States
CATEGORIES:All-School Event
END:VEVENT
BEGIN:VEVENT
DTSTART;VALUE=DATE:20260228
DTEND;VALUE=DATE:20260301
DTSTAMP:20260424T224644
CREATED:20250806T201843Z
LAST-MODIFIED:20260424T201851Z
UID:348666-1772236800-1772236800@www.parkstreetschool.org
SUMMARY:Park Street School All-School Ski Day
DESCRIPTION:
URL:https://www.parkstreetschool.org/event/park-street-school-all-school-ski-day-3/
LOCATION:MA
CATEGORIES:All-School Event
END:VEVENT
END:VCALENDAR