BEGIN:VCALENDAR
VERSION:2.0
PRODID:-//Park Street School - ECPv6.15.18//NONSGML v1.0//EN
CALSCALE:GREGORIAN
METHOD:PUBLISH
X-WR-CALNAME:Park Street School
X-ORIGINAL-URL:https://www.parkstreetschool.org
X-WR-CALDESC:Events for Park Street School
REFRESH-INTERVAL;VALUE=DURATION:PT1H
X-Robots-Tag:noindex
X-PUBLISHED-TTL:PT1H
BEGIN:VTIMEZONE
TZID:America/New_York
BEGIN:DAYLIGHT
TZOFFSETFROM:-0500
TZOFFSETTO:-0400
TZNAME:EDT
DTSTART:20250309T070000
END:DAYLIGHT
BEGIN:STANDARD
TZOFFSETFROM:-0400
TZOFFSETTO:-0500
TZNAME:EST
DTSTART:20251102T060000
END:STANDARD
BEGIN:DAYLIGHT
TZOFFSETFROM:-0500
TZOFFSETTO:-0400
TZNAME:EDT
DTSTART:20260308T070000
END:DAYLIGHT
BEGIN:STANDARD
TZOFFSETFROM:-0400
TZOFFSETTO:-0500
TZNAME:EST
DTSTART:20261101T060000
END:STANDARD
BEGIN:DAYLIGHT
TZOFFSETFROM:-0500
TZOFFSETTO:-0400
TZNAME:EDT
DTSTART:20270314T070000
END:DAYLIGHT
BEGIN:STANDARD
TZOFFSETFROM:-0400
TZOFFSETTO:-0500
TZNAME:EST
DTSTART:20271107T060000
END:STANDARD
END:VTIMEZONE
BEGIN:VEVENT
DTSTART;TZID=America/New_York:20260521T081500
DTEND;TZID=America/New_York:20260521T120000
DTSTAMP:20260424T120830
CREATED:20250806T201847Z
LAST-MODIFIED:20260423T201849Z
UID:348687-1779351300-1779364800@www.parkstreetschool.org
SUMMARY:Elementary School (Grades 3-6) CTP-5 Testing
DESCRIPTION:
URL:https://www.parkstreetschool.org/event/elementary-school-grades-3-6-ctp-5-testing-4/
LOCATION:MA
CATEGORIES:School Event
END:VEVENT
END:VCALENDAR