BEGIN:VCALENDAR
VERSION:2.0
PRODID:-//Park Street School - ECPv6.15.18//NONSGML v1.0//EN
CALSCALE:GREGORIAN
METHOD:PUBLISH
X-WR-CALNAME:Park Street School
X-ORIGINAL-URL:https://www.parkstreetschool.org
X-WR-CALDESC:Events for Park Street School
REFRESH-INTERVAL;VALUE=DURATION:PT1H
X-Robots-Tag:noindex
X-PUBLISHED-TTL:PT1H
BEGIN:VTIMEZONE
TZID:America/New_York
BEGIN:DAYLIGHT
TZOFFSETFROM:-0500
TZOFFSETTO:-0400
TZNAME:EDT
DTSTART:20250309T070000
END:DAYLIGHT
BEGIN:STANDARD
TZOFFSETFROM:-0400
TZOFFSETTO:-0500
TZNAME:EST
DTSTART:20251102T060000
END:STANDARD
BEGIN:DAYLIGHT
TZOFFSETFROM:-0500
TZOFFSETTO:-0400
TZNAME:EDT
DTSTART:20260308T070000
END:DAYLIGHT
BEGIN:STANDARD
TZOFFSETFROM:-0400
TZOFFSETTO:-0500
TZNAME:EST
DTSTART:20261101T060000
END:STANDARD
BEGIN:DAYLIGHT
TZOFFSETFROM:-0500
TZOFFSETTO:-0400
TZNAME:EDT
DTSTART:20270314T070000
END:DAYLIGHT
BEGIN:STANDARD
TZOFFSETFROM:-0400
TZOFFSETTO:-0500
TZNAME:EST
DTSTART:20271107T060000
END:STANDARD
END:VTIMEZONE
BEGIN:VEVENT
DTSTART;TZID=America/New_York:20260507T083000
DTEND;TZID=America/New_York:20260507T090500
DTSTAMP:20260424T101956
CREATED:20250807T201856Z
LAST-MODIFIED:20260423T201852Z
UID:348847-1778142600-1778144700@www.parkstreetschool.org
SUMMARY:Preschool Chapel
DESCRIPTION:
URL:https://www.parkstreetschool.org/event/preschool-chapel-24/
LOCATION:Park Street Church sanctuary\, 67 Brimmer St.\, Boston\, MA\, 02108\, United States
CATEGORIES:Chapel
END:VEVENT
BEGIN:VEVENT
DTSTART;TZID=America/New_York:20260507T083000
DTEND;TZID=America/New_York:20260507T093000
DTSTAMP:20260424T101956
CREATED:20260417T201859Z
LAST-MODIFIED:20260423T201856Z
UID:394499-1778142600-1778146200@www.parkstreetschool.org
SUMMARY:Elementary New Student Welcome Event
DESCRIPTION:
URL:https://www.parkstreetschool.org/event/elementary-new-student-welcome-event/
LOCATION:67 Brimmer Street – Elementary\, 67 Brimmer St.\, Boston\, MA\, 02108\, United States
CATEGORIES:Admissions Event
END:VEVENT
BEGIN:VEVENT
DTSTART;TZID=America/New_York:20260507T170000
DTEND;TZID=America/New_York:20260507T181500
DTSTAMP:20260424T101956
CREATED:20260415T201922Z
LAST-MODIFIED:20260423T201856Z
UID:394114-1778173200-1778177700@www.parkstreetschool.org
SUMMARY:Kindergarten New Student Welcome Night
DESCRIPTION:
URL:https://www.parkstreetschool.org/event/kindergarten-new-student-welcome-night/
LOCATION:Preschool – One Park Street\, 67 Brimmer St.\, Boston\, MA\, 02108\, United States
CATEGORIES:Admissions Event
END:VEVENT
END:VCALENDAR